BEGIN:VCALENDAR
VERSION:2.0
PRODID:-//CONCERT IDEE MUSIKLADEN - ECPv4.9.4//NONSGML v1.0//EN
CALSCALE:GREGORIAN
METHOD:PUBLISH
X-WR-CALNAME:CONCERT IDEE MUSIKLADEN
X-ORIGINAL-URL:https://concertidee-musikladen.de
X-WR-CALDESC:Veranstaltungen im CONCERT IDEE MUSIKLADEN
BEGIN:VTIMEZONE
TZID:"Europe/Berlin"
BEGIN:DAYLIGHT
TZOFFSETFROM:+0100
TZOFFSETTO:+0200
TZNAME:CEST
DTSTART:20210328T010000
END:DAYLIGHT
BEGIN:STANDARD
TZOFFSETFROM:+0200
TZOFFSETTO:+0100
TZNAME:CET
DTSTART:20211031T010000
END:STANDARD
END:VTIMEZONE
BEGIN:VEVENT
DTSTART;TZID="Europe/Berlin":20210814T220000
DTEND;TZID="Europe/Berlin":20210815T013000
DTSTAMP:20260421T085332
CREATED:20210719T143617Z
LAST-MODIFIED:20220517T160226Z
UID:2844-1628978400-1628991000@concertidee-musikladen.de
SUMMARY:14.08. Berliner Oldieband\, open air GrÃ¼nheide 22.00 Uhr
DESCRIPTION:14.08.2021 spielt die Berliner Oldieband \n  \nzum Sommerfest in GrÃ¼nheide (Mark). 22.00 &#8211; 1.30 Uhr werden Songs der letzten 6 Jahrzehnte &#8211; CCR\, Beatles\, Stones\, Status Quo\, Westernhagen\, GrÃ¶nemeyer\, Eagles\, Midnight Oil\, Mike and the Mechanics u.a. zum ZuhÃ¶ren oder TanzenÂ  gespielt. Auf der Festwiese GrÃ¼nheide am Werlsee\, unterbrochen durch eine Lasershow zur &#8222;Geisterstunde&#8220;. Die Berliner Oldieband ist auf der open-air-BÃ¼hne live und mit viel Spielfreude zugange. \nOrt: Festwiese GrÃ¼nheide\, An der Alten Schule\, 15537 GrÃ¼nheide &#8211; Eintritt ist frei \nWir waren etwas rockiger unterwegs und auch vor der BÃ¼hne war eine Super-Stimmung ! \n
URL:https://concertidee-musikladen.de/konzerte/14-08-berliner-oldieband-open-air-gruenheide-22-00-uhr/
LOCATION:Sommerfest GrÃ¼nheide (Mark)\, GrÃ¼nheide\, Deutschland
CATEGORIES:Open Air
ATTACH;FMTTYPE=image/jpeg:https://concertidee-musikladen.de/wp-content/uploads/2021/07/BobGruenhe14-8-buehn.jpg
END:VEVENT
END:VCALENDAR